BEGIN:VCALENDAR
VERSION:2.0
PRODID:-//Mistelhexen - ECPv6.15.17.1//NONSGML v1.0//EN
CALSCALE:GREGORIAN
METHOD:PUBLISH
X-WR-CALNAME:Mistelhexen
X-ORIGINAL-URL:https://www.mistelhexen.de
X-WR-CALDESC:Veranstaltungen für Mistelhexen
REFRESH-INTERVAL;VALUE=DURATION:PT1H
X-Robots-Tag:noindex
X-PUBLISHED-TTL:PT1H
BEGIN:VTIMEZONE
TZID:Europe/Berlin
BEGIN:DAYLIGHT
TZOFFSETFROM:+0100
TZOFFSETTO:+0200
TZNAME:CEST
DTSTART:20230326T010000
END:DAYLIGHT
BEGIN:STANDARD
TZOFFSETFROM:+0200
TZOFFSETTO:+0100
TZNAME:CET
DTSTART:20231029T010000
END:STANDARD
BEGIN:DAYLIGHT
TZOFFSETFROM:+0100
TZOFFSETTO:+0200
TZNAME:CEST
DTSTART:20240331T010000
END:DAYLIGHT
BEGIN:STANDARD
TZOFFSETFROM:+0200
TZOFFSETTO:+0100
TZNAME:CET
DTSTART:20241027T010000
END:STANDARD
BEGIN:DAYLIGHT
TZOFFSETFROM:+0100
TZOFFSETTO:+0200
TZNAME:CEST
DTSTART:20250330T010000
END:DAYLIGHT
BEGIN:STANDARD
TZOFFSETFROM:+0200
TZOFFSETTO:+0100
TZNAME:CET
DTSTART:20251026T010000
END:STANDARD
END:VTIMEZONE
BEGIN:VEVENT
DTSTART;TZID=Europe/Berlin:20241019T090000
DTEND;TZID=Europe/Berlin:20241019T170000
DTSTAMP:20260424T091539
CREATED:20240817T083758Z
LAST-MODIFIED:20240817T083801Z
UID:11720-1729328400-1729357200@www.mistelhexen.de
SUMMARY:Turnier
DESCRIPTION:Freundschaftsturnier der Karnevalsgesellschaft Schwarze Husaren e.V.
URL:https://www.mistelhexen.de/event/turnier/
LOCATION:Turn- und Versammlungshalle Österfeldschule\, Katzenbachstraße 27\, Stuttgart-Vaihingen\, 70563\, Deutschland
CATEGORIES:Turnier
END:VEVENT
END:VCALENDAR