BEGIN:VCALENDAR
VERSION:2.0
PRODID:-//Mistelhexen - ECPv6.15.17.1//NONSGML v1.0//EN
CALSCALE:GREGORIAN
METHOD:PUBLISH
X-WR-CALNAME:Mistelhexen
X-ORIGINAL-URL:https://www.mistelhexen.de
X-WR-CALDESC:Veranstaltungen für Mistelhexen
REFRESH-INTERVAL;VALUE=DURATION:PT1H
X-Robots-Tag:noindex
X-PUBLISHED-TTL:PT1H
BEGIN:VTIMEZONE
TZID:Europe/Berlin
BEGIN:DAYLIGHT
TZOFFSETFROM:+0100
TZOFFSETTO:+0200
TZNAME:CEST
DTSTART:20250330T010000
END:DAYLIGHT
BEGIN:STANDARD
TZOFFSETFROM:+0200
TZOFFSETTO:+0100
TZNAME:CET
DTSTART:20251026T010000
END:STANDARD
BEGIN:DAYLIGHT
TZOFFSETFROM:+0100
TZOFFSETTO:+0200
TZNAME:CEST
DTSTART:20260329T010000
END:DAYLIGHT
BEGIN:STANDARD
TZOFFSETFROM:+0200
TZOFFSETTO:+0100
TZNAME:CET
DTSTART:20261025T010000
END:STANDARD
BEGIN:DAYLIGHT
TZOFFSETFROM:+0100
TZOFFSETTO:+0200
TZNAME:CEST
DTSTART:20270328T010000
END:DAYLIGHT
BEGIN:STANDARD
TZOFFSETFROM:+0200
TZOFFSETTO:+0100
TZNAME:CET
DTSTART:20271031T010000
END:STANDARD
END:VTIMEZONE
BEGIN:VEVENT
DTSTART;TZID=Europe/Berlin:20260420T173000
DTEND;TZID=Europe/Berlin:20260420T223000
DTSTAMP:20260421T010810
CREATED:20260330T200114Z
LAST-MODIFIED:20260330T200116Z
UID:12973-1776706200-1776724200@www.mistelhexen.de
SUMMARY:LWK Besuch auf dem Frühlingsfest
DESCRIPTION:Treffen uns "Beim Benz - Das Hofbräuzelt" https://www.beimbenz.de \n\n\n\nAnmeldung bis 06.04. bei der Schreibhex
URL:https://www.mistelhexen.de/event/lwk-besuch-auf-dem-fruehlingsfest/
LOCATION:Wasen\, Mercedes Straße\, Stuttgart\, baden-württemberg\, 70372\, Germany
CATEGORIES:Sonstige
END:VEVENT
END:VCALENDAR