BEGIN:VCALENDAR
VERSION:2.0
PRODID:-//Mistelhexen - ECPv6.15.17.1//NONSGML v1.0//EN
CALSCALE:GREGORIAN
METHOD:PUBLISH
X-WR-CALNAME:Mistelhexen
X-ORIGINAL-URL:https://www.mistelhexen.de
X-WR-CALDESC:Veranstaltungen für Mistelhexen
REFRESH-INTERVAL;VALUE=DURATION:PT1H
X-Robots-Tag:noindex
X-PUBLISHED-TTL:PT1H
BEGIN:VTIMEZONE
TZID:Europe/Berlin
BEGIN:DAYLIGHT
TZOFFSETFROM:+0100
TZOFFSETTO:+0200
TZNAME:CEST
DTSTART:20250330T010000
END:DAYLIGHT
BEGIN:STANDARD
TZOFFSETFROM:+0200
TZOFFSETTO:+0100
TZNAME:CET
DTSTART:20251026T010000
END:STANDARD
BEGIN:DAYLIGHT
TZOFFSETFROM:+0100
TZOFFSETTO:+0200
TZNAME:CEST
DTSTART:20260329T010000
END:DAYLIGHT
BEGIN:STANDARD
TZOFFSETFROM:+0200
TZOFFSETTO:+0100
TZNAME:CET
DTSTART:20261025T010000
END:STANDARD
BEGIN:DAYLIGHT
TZOFFSETFROM:+0100
TZOFFSETTO:+0200
TZNAME:CEST
DTSTART:20270328T010000
END:DAYLIGHT
BEGIN:STANDARD
TZOFFSETFROM:+0200
TZOFFSETTO:+0100
TZNAME:CET
DTSTART:20271031T010000
END:STANDARD
END:VTIMEZONE
BEGIN:VEVENT
DTSTART;TZID=Europe/Berlin:20260424T183000
DTEND;TZID=Europe/Berlin:20260424T220000
DTSTAMP:20260424T055745
CREATED:20260316T160225Z
LAST-MODIFIED:20260316T160227Z
UID:12851-1777055400-1777068000@www.mistelhexen.de
SUMMARY:Schnitzen + Stammtisch
DESCRIPTION:
URL:https://www.mistelhexen.de/event/schnitzen-stammtisch-2/
LOCATION:Vereinsheim 1.FZN Mistelhexen\, Uferstraße 113\, Ludwigsburg\, Baden-Württemberg\, 71642\, Deutschland
CATEGORIES:EigeneVeranstaltung,Schnitzen,Stammtisch
END:VEVENT
END:VCALENDAR